BEGIN:VCALENDAR
VERSION:2.0
PRODID:-//Quazar, Centre LGBTI+ d&#039;Angers et du Maine-et-Loire - ECPv6.15.20//NONSGML v1.0//EN
CALSCALE:GREGORIAN
METHOD:PUBLISH
X-WR-CALNAME:Quazar, Centre LGBTI+ d&#039;Angers et du Maine-et-Loire
X-ORIGINAL-URL:https://quazar.fr
X-WR-CALDESC:Évènements pour Quazar, Centre LGBTI+ d&#039;Angers et du Maine-et-Loire
REFRESH-INTERVAL;VALUE=DURATION:PT1H
X-Robots-Tag:noindex
X-PUBLISHED-TTL:PT1H
BEGIN:VTIMEZONE
TZID:Europe/Helsinki
BEGIN:DAYLIGHT
TZOFFSETFROM:+0200
TZOFFSETTO:+0300
TZNAME:EEST
DTSTART:20230326T010000
END:DAYLIGHT
BEGIN:STANDARD
TZOFFSETFROM:+0300
TZOFFSETTO:+0200
TZNAME:EET
DTSTART:20231029T010000
END:STANDARD
BEGIN:DAYLIGHT
TZOFFSETFROM:+0200
TZOFFSETTO:+0300
TZNAME:EEST
DTSTART:20240331T010000
END:DAYLIGHT
BEGIN:STANDARD
TZOFFSETFROM:+0300
TZOFFSETTO:+0200
TZNAME:EET
DTSTART:20241027T010000
END:STANDARD
BEGIN:DAYLIGHT
TZOFFSETFROM:+0200
TZOFFSETTO:+0300
TZNAME:EEST
DTSTART:20250330T010000
END:DAYLIGHT
BEGIN:STANDARD
TZOFFSETFROM:+0300
TZOFFSETTO:+0200
TZNAME:EET
DTSTART:20251026T010000
END:STANDARD
BEGIN:DAYLIGHT
TZOFFSETFROM:+0200
TZOFFSETTO:+0300
TZNAME:EEST
DTSTART:20260329T010000
END:DAYLIGHT
BEGIN:STANDARD
TZOFFSETFROM:+0300
TZOFFSETTO:+0200
TZNAME:EET
DTSTART:20261025T010000
END:STANDARD
END:VTIMEZONE
BEGIN:VEVENT
DTSTART;TZID=Europe/Helsinki:20250523T200000
DTEND;TZID=Europe/Helsinki:20250523T230000
DTSTAMP:20260420T182000
CREATED:20250408T154657Z
LAST-MODIFIED:20250520T152845Z
UID:13555-1748030400-1748041200@quazar.fr
SUMMARY:Conviviale
DESCRIPTION:Soirée conviviale les 3e vendredis de chaque mois à 20h. Chacun·e apporte un plat et/ou une boisson à partager !
URL:https://quazar.fr/evenement/conviviale-13
LOCATION:Centre Marcelle Menet\, Mail Clément PASQUEREAU\, Angers\, 49100
CATEGORIES:Conviviale
END:VEVENT
BEGIN:VEVENT
DTSTART;TZID=Europe/Helsinki:20241115T200000
DTEND;TZID=Europe/Helsinki:20241115T223000
DTSTAMP:20260420T182000
CREATED:20241113T190421Z
LAST-MODIFIED:20241113T190421Z
UID:12033-1731700800-1731709800@quazar.fr
SUMMARY:Conviviale
DESCRIPTION:Quazar vous convie à sa conviviale vendredi 15 novembre\, à 20h\, repas partagé chaque 3e vendredi de chaque mois entre adhérent·e·s et sympathisant·es. \nCette fois\, rendez-vous au Centre Marcelle Menet\, mail Clément Pasquereau à Angers. Amenez de quoi partager un repas avec les participant·es. \n 
URL:https://quazar.fr/evenement/conviviale-11
LOCATION:Centre Marcelle Menet\, Mail Clément PASQUEREAU\, Angers\, 49100
CATEGORIES:Conviviale
ATTACH;FMTTYPE=image/png:https://quazar.fr/wp-content/uploads/2024/11/1.png
END:VEVENT
END:VCALENDAR