BEGIN:VCALENDAR
VERSION:2.0
PRODID:-//Quazar, Centre LGBTI+ d&#039;Angers et du Maine-et-Loire - ECPv6.15.20//NONSGML v1.0//EN
CALSCALE:GREGORIAN
METHOD:PUBLISH
X-WR-CALNAME:Quazar, Centre LGBTI+ d&#039;Angers et du Maine-et-Loire
X-ORIGINAL-URL:https://quazar.fr
X-WR-CALDESC:Évènements pour Quazar, Centre LGBTI+ d&#039;Angers et du Maine-et-Loire
REFRESH-INTERVAL;VALUE=DURATION:PT1H
X-Robots-Tag:noindex
X-PUBLISHED-TTL:PT1H
BEGIN:VTIMEZONE
TZID:Europe/Helsinki
BEGIN:DAYLIGHT
TZOFFSETFROM:+0200
TZOFFSETTO:+0300
TZNAME:EEST
DTSTART:20240331T010000
END:DAYLIGHT
BEGIN:STANDARD
TZOFFSETFROM:+0300
TZOFFSETTO:+0200
TZNAME:EET
DTSTART:20241027T010000
END:STANDARD
BEGIN:DAYLIGHT
TZOFFSETFROM:+0200
TZOFFSETTO:+0300
TZNAME:EEST
DTSTART:20250330T010000
END:DAYLIGHT
BEGIN:STANDARD
TZOFFSETFROM:+0300
TZOFFSETTO:+0200
TZNAME:EET
DTSTART:20251026T010000
END:STANDARD
BEGIN:DAYLIGHT
TZOFFSETFROM:+0200
TZOFFSETTO:+0300
TZNAME:EEST
DTSTART:20260329T010000
END:DAYLIGHT
BEGIN:STANDARD
TZOFFSETFROM:+0300
TZOFFSETTO:+0200
TZNAME:EET
DTSTART:20261025T010000
END:STANDARD
BEGIN:DAYLIGHT
TZOFFSETFROM:+0200
TZOFFSETTO:+0300
TZNAME:EEST
DTSTART:20270328T010000
END:DAYLIGHT
BEGIN:STANDARD
TZOFFSETFROM:+0300
TZOFFSETTO:+0200
TZNAME:EET
DTSTART:20271031T010000
END:STANDARD
END:VTIMEZONE
BEGIN:VEVENT
DTSTART;TZID=Europe/Helsinki:20260205T190000
DTEND;TZID=Europe/Helsinki:20260205T210000
DTSTAMP:20260425T194651
CREATED:20251024T155256Z
LAST-MODIFIED:20260126T155417Z
UID:15494-1770318000-1770325200@quazar.fr
SUMMARY:TRANSparents
DESCRIPTION:Groupe d’échanges à destination des proches souhaitant poser toutes questions en rapport avec la transidentité sans la présence des personnes concernées.
URL:https://quazar.fr/evenement/transparents-19
LOCATION:Quazar Centre LGBTI+\, 15 rue de Jérusalem\, Angers\, 49100\, France
CATEGORIES:Team Trans Inter
ATTACH;FMTTYPE=image/jpeg:https://quazar.fr/wp-content/uploads/2023/06/201005_transparents_banniere-e1750260971423.jpg
END:VEVENT
BEGIN:VEVENT
DTSTART;TZID=Europe/Helsinki:20260117T150000
DTEND;TZID=Europe/Helsinki:20260117T170000
DTSTAMP:20260425T194651
CREATED:20251024T154905Z
LAST-MODIFIED:20260107T152125Z
UID:15480-1768662000-1768669200@quazar.fr
SUMMARY:TRANS@
DESCRIPTION:Groupe d’échanges par et pour les personnes trans\, nb\, inter\,…\n \n\nTRANS@ est un groupe d’échanges\, une fois tous les deux mois\, par et pour les personnes transgenres\, intersexes\, non-binaires\, agenres\, en questionnement\,…\nL’inscription au préalable via le Team Trans Inter mail est demandée pour vous recevoir au mieux.\n\n \n\nGroupe de parole en non mixité pour une liberté des sujets abordés.\n\n \n\n 
URL:https://quazar.fr/evenement/trans-13
LOCATION:Quazar Centre LGBTI+\, 15 rue de Jérusalem\, Angers\, 49100\, France
CATEGORIES:Team Trans Inter,Trans@
ATTACH;FMTTYPE=image/png:https://quazar.fr/wp-content/uploads/2023/06/Q_221013_trans@.png
END:VEVENT
BEGIN:VEVENT
DTSTART;TZID=Europe/Helsinki:20260106T190000
DTEND;TZID=Europe/Helsinki:20260106T210000
DTSTAMP:20260425T194651
CREATED:20251024T155255Z
LAST-MODIFIED:20251024T155258Z
UID:15493-1767726000-1767733200@quazar.fr
SUMMARY:TRANSparents
DESCRIPTION:Groupe d’échanges à destination des proches souhaitant poser toutes questions en rapport avec la transidentité sans la présence des personnes concernées.
URL:https://quazar.fr/evenement/transparents-18
LOCATION:Quazar Centre LGBTI+\, 15 rue de Jérusalem\, Angers\, 49100\, France
CATEGORIES:Team Trans Inter
END:VEVENT
BEGIN:VEVENT
DTSTART;TZID=Europe/Helsinki:20251220T150000
DTEND;TZID=Europe/Helsinki:20251220T170000
DTSTAMP:20260425T194651
CREATED:20251024T155324Z
LAST-MODIFIED:20251204T143315Z
UID:15502-1766242800-1766250000@quazar.fr
SUMMARY:TRANSallié·e·s
DESCRIPTION:Groupe d’échange autour de la transidentité et l’intersexuation\, ouvert aux allié·e·s.
URL:https://quazar.fr/evenement/transallie%c2%b7e%c2%b7s-6
LOCATION:Quazar Centre LGBTI+\, 15 rue de Jérusalem\, Angers\, 49100\, France
CATEGORIES:Team Trans Inter
END:VEVENT
BEGIN:VEVENT
DTSTART;TZID=Europe/Helsinki:20251212T193000
DTEND;TZID=Europe/Helsinki:20251212T213000
DTSTAMP:20260425T194651
CREATED:20251202T143141Z
LAST-MODIFIED:20251204T144722Z
UID:15820-1765567800-1765575000@quazar.fr
SUMMARY:Rencontre PFF : Hymne des femmes
DESCRIPTION:Rencontre & échanges du Pôle femmes féministes\nMoments d’échanges libres\, en mixité ou non\, sur des thèmes liés à l’égalité des genres\, la santé des femmes\, l’inclusion\, etc. \nDiscussion sur l’Hymne des femmes\n& choix des thèmes pour l’année 2026\n\nQue voulez-vous voir aux rencontres féministes ? Quel(s) sujet(s) aimeriez-vous aborder ? C’est le moment de partager votre avis et vos envies !\n\n\nLe PFF c’est le pôle féministe de Quazar dédié aux femmes et à leurs allié·e·s pour promouvoir l’égalité des genres\, le soutien mutuel et l’inclusion.\n 
URL:https://quazar.fr/evenement/rencontre-pole-femmes-feministes-6
LOCATION:Quazar Centre LGBTI+\, 15 rue de Jérusalem\, Angers\, 49100\, France
CATEGORIES:Atelier,Culture et loisirs,Féminisme
ATTACH;FMTTYPE=image/jpeg:https://quazar.fr/wp-content/uploads/2025/12/1552039845.jpg
ORGANIZER;CN="P%C3%B4le Femmes F%C3%A9ministes":MAILTO:femmes.féministes@quazar.fr
END:VEVENT
BEGIN:VEVENT
DTSTART;TZID=Europe/Helsinki:20251204T190000
DTEND;TZID=Europe/Helsinki:20251204T210000
DTSTAMP:20260425T194651
CREATED:20251024T155252Z
LAST-MODIFIED:20251204T143253Z
UID:15492-1764874800-1764882000@quazar.fr
SUMMARY:TRANSparents
DESCRIPTION:Groupe d’échanges à destination des proches souhaitant poser toutes questions en rapport avec la transidentité sans la présence des personnes concernées.
URL:https://quazar.fr/evenement/transparents-17
LOCATION:Quazar Centre LGBTI+\, 15 rue de Jérusalem\, Angers\, 49100\, France
CATEGORIES:Team Trans Inter
END:VEVENT
BEGIN:VEVENT
DTSTART;TZID=Europe/Helsinki:20251104T190000
DTEND;TZID=Europe/Helsinki:20251104T210000
DTSTAMP:20260425T194651
CREATED:20251024T155251Z
LAST-MODIFIED:20251024T155251Z
UID:15491-1762282800-1762290000@quazar.fr
SUMMARY:TRANSparents
DESCRIPTION:Groupe d’échanges à destination des proches souhaitant poser toutes questions en rapport avec la transidentité sans la présence des personnes concernées.
URL:https://quazar.fr/evenement/transparents-16
LOCATION:Quazar Centre LGBTI+\, 15 rue de Jérusalem\, Angers\, 49100\, France
CATEGORIES:Team Trans Inter
END:VEVENT
BEGIN:VEVENT
DTSTART;TZID=Europe/Helsinki:20251002T190000
DTEND;TZID=Europe/Helsinki:20251002T210000
DTSTAMP:20260425T194651
CREATED:20250409T145010Z
LAST-MODIFIED:20250710T122317Z
UID:13698-1759431600-1759438800@quazar.fr
SUMMARY:TRANSparents
DESCRIPTION:Groupe d’échanges pour les familles et proches de personnes transgenres\, agenres\, non-binaires\, intersexes ou en questionnement. La participation est gratuite et sur inscription par mail.
URL:https://quazar.fr/evenement/transparents-15
LOCATION:Quazar Centre LGBTI+\, 15 rue de Jérusalem\, Angers\, 49100\, France
CATEGORIES:Team Trans Inter,TRANSparents
END:VEVENT
BEGIN:VEVENT
DTSTART;TZID=Europe/Helsinki:20250920T150000
DTEND;TZID=Europe/Helsinki:20250920T170000
DTSTAMP:20260425T194651
CREATED:20250408T170222Z
LAST-MODIFIED:20250710T122141Z
UID:13629-1758380400-1758387600@quazar.fr
SUMMARY:TRANS@
DESCRIPTION:Groupe d’échanges pour et par les personnes transgenres\, agenres\, non-binaires\, intersexes ou en questionnement. La participation est gratuite et sur inscription par mail.
URL:https://quazar.fr/evenement/trans-15
LOCATION:Quazar Centre LGBTI+\, 15 rue de Jérusalem\, Angers\, 49100\, France
CATEGORIES:Team Trans Inter,Trans@
END:VEVENT
BEGIN:VEVENT
DTSTART;TZID=Europe/Helsinki:20250807T190000
DTEND;TZID=Europe/Helsinki:20250807T210000
DTSTAMP:20260425T194651
CREATED:20250409T144955Z
LAST-MODIFIED:20250710T123656Z
UID:13693-1754593200-1754600400@quazar.fr
SUMMARY:TRANSparents
DESCRIPTION:Groupe d’échanges pour les familles et proches de personnes transgenres\, agenres\, non-binaires\, intersexes ou en questionnement. La participation est gratuite et sur inscription par mail.
URL:https://quazar.fr/evenement/transparents-13
LOCATION:Quazar Centre LGBTI+\, 15 rue de Jérusalem\, Angers\, 49100\, France
CATEGORIES:Team Trans Inter,TRANSparents
ATTACH;FMTTYPE=image/jpeg:https://quazar.fr/wp-content/uploads/2023/06/201005_transparents_banniere-e1750260971423.jpg
END:VEVENT
BEGIN:VEVENT
DTSTART;TZID=Europe/Helsinki:20250719T150000
DTEND;TZID=Europe/Helsinki:20250719T170000
DTSTAMP:20260425T194651
CREATED:20250408T170221Z
LAST-MODIFIED:20250710T124358Z
UID:13628-1752937200-1752944400@quazar.fr
SUMMARY:TRANS@
DESCRIPTION:Groupe d’échanges pour et par les personnes transgenres\, agenres\, non-binaires\, intersexes ou en questionnement. Sur inscription par mail.
URL:https://quazar.fr/evenement/trans-14
LOCATION:Quazar Centre LGBTI+\, 15 rue de Jérusalem\, Angers\, 49100\, France
CATEGORIES:Team Trans Inter,Trans@
END:VEVENT
BEGIN:VEVENT
DTSTART;TZID=Europe/Helsinki:20250510T150000
DTEND;TZID=Europe/Helsinki:20250510T170000
DTSTAMP:20260425T194651
CREATED:20250408T170221Z
LAST-MODIFIED:20250507T151735Z
UID:13627-1746889200-1746896400@quazar.fr
SUMMARY:TRANS@
DESCRIPTION:Groupe d’échanges pour et par les personnes transgenres\, agenres\, non-binaires\, intersexes ou en questionnement. \n  \nSur inscription par mail à : team-trans-inter@quazar.fr
URL:https://quazar.fr/evenement/groupe-dechange-transidentite
LOCATION:Quazar Centre LGBTI+\, 15 rue de Jérusalem\, Angers\, 49100\, France
CATEGORIES:Trans@
END:VEVENT
END:VCALENDAR