BEGIN:VCALENDAR
VERSION:2.0
PRODID:-//Quazar, Centre LGBTI+ d&#039;Angers et du Maine-et-Loire - ECPv6.15.20//NONSGML v1.0//EN
CALSCALE:GREGORIAN
METHOD:PUBLISH
X-ORIGINAL-URL:https://quazar.fr
X-WR-CALDESC:Évènements pour Quazar, Centre LGBTI+ d&#039;Angers et du Maine-et-Loire
REFRESH-INTERVAL;VALUE=DURATION:PT1H
X-Robots-Tag:noindex
X-PUBLISHED-TTL:PT1H
BEGIN:VTIMEZONE
TZID:Europe/Helsinki
BEGIN:DAYLIGHT
TZOFFSETFROM:+0200
TZOFFSETTO:+0300
TZNAME:EEST
DTSTART:20250330T010000
END:DAYLIGHT
BEGIN:STANDARD
TZOFFSETFROM:+0300
TZOFFSETTO:+0200
TZNAME:EET
DTSTART:20251026T010000
END:STANDARD
BEGIN:DAYLIGHT
TZOFFSETFROM:+0200
TZOFFSETTO:+0300
TZNAME:EEST
DTSTART:20260329T010000
END:DAYLIGHT
BEGIN:STANDARD
TZOFFSETFROM:+0300
TZOFFSETTO:+0200
TZNAME:EET
DTSTART:20261025T010000
END:STANDARD
BEGIN:DAYLIGHT
TZOFFSETFROM:+0200
TZOFFSETTO:+0300
TZNAME:EEST
DTSTART:20270328T010000
END:DAYLIGHT
BEGIN:STANDARD
TZOFFSETFROM:+0300
TZOFFSETTO:+0200
TZNAME:EET
DTSTART:20271031T010000
END:STANDARD
END:VTIMEZONE
BEGIN:VEVENT
DTSTART;TZID=Europe/Helsinki:20260501T200000
DTEND;TZID=Europe/Helsinki:20260501T230000
DTSTAMP:20260425T145436
CREATED:20251027T144925Z
LAST-MODIFIED:20260421T130506Z
UID:15541-1777665600-1777676400@quazar.fr
SUMMARY:Soirée jeux de société
DESCRIPTION:✨Que tu sois fan de jeux de cartes\, adepte des jeux de plateau ou simplement curieux·se de découvrir de nouveaux univers… cette soirée est faite pour toi !🎲 \n👉VENDREDI 1ER MAI \n🎲Au programme :Soirée animée par un bénévole.Matthieu apporte toujours toutes sortes de jeux\, adaptés à tous les niveaux (débutant·e\, intermédiaire\, MJ\, …).À toi de choisir parmi notre sélection\, ou bien fais nous découvrir la tienne ! \n👥 ​Ouvert à toustes et gratuit📅​ Tous les 1er vendredis du mois🕜 ​à 20h📍​Quazar Centre LGBTI+ • 15 rue de Jérusalem 49100 Angers–TRAM ligne B arrêt Deux-Croix–BUS ligne 4 arrêt Lutin–BUS ligne 7 arrêt Jérusalem–BUS ligne 5A ou 5B arrêt Deux-Croix \n♿ AccessibilitéPlace PMR devant le localToilettes PMRPossibilité d’adapter les jeux aux besoins de chacun·e
URL:https://quazar.fr/evenement/soiree-jeux-de-societe-20
LOCATION:Quazar Centre LGBTI+\, 15 rue de Jérusalem\, Angers\, 49100\, France
CATEGORIES:Culture et loisirs,Jeux de société,Soirée jeux
ATTACH;FMTTYPE=image/png:https://quazar.fr/wp-content/uploads/2025/10/Design-sans-titre-6.png
ORGANIZER;CN="Quazar":MAILTO:*protected email*
END:VEVENT
BEGIN:VEVENT
DTSTART;TZID=Europe/Helsinki:20260510T143000
DTEND;TZID=Europe/Helsinki:20260510T173000
DTSTAMP:20260425T145436
CREATED:20251027T150436Z
LAST-MODIFIED:20260421T132311Z
UID:15560-1778423400-1778434200@quazar.fr
SUMMARY:Après-midi jeux de société
DESCRIPTION:Jeux de cartes\, de pions\, de plateaux… Venez avec votre jeu préféré et faites-le découvrir.
URL:https://quazar.fr/evenement/apres-midi-jeux-de-societe-21
LOCATION:Quazar Centre LGBTI+\, 15 rue de Jérusalem\, Angers\, 49100\, France
CATEGORIES:Après-midi jeux,Culture et loisirs,Jeux de société
ATTACH;FMTTYPE=image/png:https://quazar.fr/wp-content/uploads/2025/10/Design-sans-titre-7.png
END:VEVENT
BEGIN:VEVENT
DTSTART;TZID=Europe/Helsinki:20260520T193000
DTEND;TZID=Europe/Helsinki:20260520T220000
DTSTAMP:20260425T145436
CREATED:20260106T160935Z
LAST-MODIFIED:20260106T160937Z
UID:16055-1779305400-1779314400@quazar.fr
SUMMARY:Apéro jeunes - Pôle 15-25 ans
DESCRIPTION:
URL:https://quazar.fr/evenement/apero-jeunes-pole-15-25-ans-5
CATEGORIES:Culture et loisirs,Jeunes
ORGANIZER;CN="P%C3%B4le jeunes":MAILTO:15-25ans@quazar.fr
END:VEVENT
END:VCALENDAR