BEGIN:VCALENDAR
VERSION:2.0
PRODID:-//Quazar, Centre LGBTI+ d&#039;Angers et du Maine-et-Loire - ECPv6.15.20//NONSGML v1.0//EN
CALSCALE:GREGORIAN
METHOD:PUBLISH
X-ORIGINAL-URL:https://quazar.fr
X-WR-CALDESC:Évènements pour Quazar, Centre LGBTI+ d&#039;Angers et du Maine-et-Loire
REFRESH-INTERVAL;VALUE=DURATION:PT1H
X-Robots-Tag:noindex
X-PUBLISHED-TTL:PT1H
BEGIN:VTIMEZONE
TZID:Europe/Helsinki
BEGIN:DAYLIGHT
TZOFFSETFROM:+0200
TZOFFSETTO:+0300
TZNAME:EEST
DTSTART:20250330T010000
END:DAYLIGHT
BEGIN:STANDARD
TZOFFSETFROM:+0300
TZOFFSETTO:+0200
TZNAME:EET
DTSTART:20251026T010000
END:STANDARD
BEGIN:DAYLIGHT
TZOFFSETFROM:+0200
TZOFFSETTO:+0300
TZNAME:EEST
DTSTART:20260329T010000
END:DAYLIGHT
BEGIN:STANDARD
TZOFFSETFROM:+0300
TZOFFSETTO:+0200
TZNAME:EET
DTSTART:20261025T010000
END:STANDARD
BEGIN:DAYLIGHT
TZOFFSETFROM:+0200
TZOFFSETTO:+0300
TZNAME:EEST
DTSTART:20270328T010000
END:DAYLIGHT
BEGIN:STANDARD
TZOFFSETFROM:+0300
TZOFFSETTO:+0200
TZNAME:EET
DTSTART:20271031T010000
END:STANDARD
END:VTIMEZONE
BEGIN:VEVENT
DTSTART;TZID=Europe/Helsinki:20260501T200000
DTEND;TZID=Europe/Helsinki:20260501T230000
DTSTAMP:20260424T022120
CREATED:20251027T144925Z
LAST-MODIFIED:20260421T130506Z
UID:15541-1777665600-1777676400@quazar.fr
SUMMARY:Soirée jeux de société
DESCRIPTION:✨Que tu sois fan de jeux de cartes\, adepte des jeux de plateau ou simplement curieux·se de découvrir de nouveaux univers… cette soirée est faite pour toi !🎲 \n👉VENDREDI 1ER MAI \n🎲Au programme :Soirée animée par un bénévole.Matthieu apporte toujours toutes sortes de jeux\, adaptés à tous les niveaux (débutant·e\, intermédiaire\, MJ\, …).À toi de choisir parmi notre sélection\, ou bien fais nous découvrir la tienne ! \n👥 ​Ouvert à toustes et gratuit📅​ Tous les 1er vendredis du mois🕜 ​à 20h📍​Quazar Centre LGBTI+ • 15 rue de Jérusalem 49100 Angers–TRAM ligne B arrêt Deux-Croix–BUS ligne 4 arrêt Lutin–BUS ligne 7 arrêt Jérusalem–BUS ligne 5A ou 5B arrêt Deux-Croix \n♿ AccessibilitéPlace PMR devant le localToilettes PMRPossibilité d’adapter les jeux aux besoins de chacun·e
URL:https://quazar.fr/evenement/soiree-jeux-de-societe-20
LOCATION:Quazar Centre LGBTI+\, 15 rue de Jérusalem\, Angers\, 49100\, France
CATEGORIES:Culture et loisirs,Jeux de société,Soirée jeux
ATTACH;FMTTYPE=image/png:https://quazar.fr/wp-content/uploads/2025/10/Design-sans-titre-6.png
ORGANIZER;CN="Quazar":MAILTO:*protected email*
END:VEVENT
BEGIN:VEVENT
DTSTART;TZID=Europe/Helsinki:20260510T143000
DTEND;TZID=Europe/Helsinki:20260510T173000
DTSTAMP:20260424T022120
CREATED:20251027T150436Z
LAST-MODIFIED:20260421T132311Z
UID:15560-1778423400-1778434200@quazar.fr
SUMMARY:Après-midi jeux de société
DESCRIPTION:Jeux de cartes\, de pions\, de plateaux… Venez avec votre jeu préféré et faites-le découvrir.
URL:https://quazar.fr/evenement/apres-midi-jeux-de-societe-21
LOCATION:Quazar Centre LGBTI+\, 15 rue de Jérusalem\, Angers\, 49100\, France
CATEGORIES:Après-midi jeux,Culture et loisirs,Jeux de société
ATTACH;FMTTYPE=image/png:https://quazar.fr/wp-content/uploads/2025/10/Design-sans-titre-7.png
END:VEVENT
BEGIN:VEVENT
DTSTART;TZID=Europe/Helsinki:20260520T193000
DTEND;TZID=Europe/Helsinki:20260520T220000
DTSTAMP:20260424T022120
CREATED:20260106T160935Z
LAST-MODIFIED:20260106T160937Z
UID:16055-1779305400-1779314400@quazar.fr
SUMMARY:Apéro jeunes - Pôle 15-25 ans
DESCRIPTION:
URL:https://quazar.fr/evenement/apero-jeunes-pole-15-25-ans-5
CATEGORIES:Culture et loisirs,Jeunes
ORGANIZER;CN="P%C3%B4le jeunes":MAILTO:15-25ans@quazar.fr
END:VEVENT
BEGIN:VEVENT
DTSTART;TZID=Europe/Helsinki:20260605T200000
DTEND;TZID=Europe/Helsinki:20260605T230000
DTSTAMP:20260424T022120
CREATED:20251027T145126Z
LAST-MODIFIED:20251027T145126Z
UID:15542-1780689600-1780700400@quazar.fr
SUMMARY:Soirée jeux de société
DESCRIPTION:Que vous soyez expérimenté·es ou que vous souhaitiez découvrir l’univers du jeu\, il y en aura pour tous les goûts. Du petit jeu rapide au jeu plus posé\, on vous propose de venir vous installer à une table et de vous lancer dans une partie. Apportez votre jeu préféré pour le faire découvrir ou profiter de la sélection apportée par Matthieu\, notre animateur.
URL:https://quazar.fr/evenement/soiree-jeux-de-societe-21
LOCATION:Quazar Centre LGBTI+\, 15 rue de Jérusalem\, Angers\, 49100\, France
CATEGORIES:Culture et loisirs,Jeux de société,Soirée jeux
ORGANIZER;CN="Quazar":MAILTO:*protected email*
END:VEVENT
BEGIN:VEVENT
DTSTART;TZID=Europe/Helsinki:20260614T143000
DTEND;TZID=Europe/Helsinki:20260614T173000
DTSTAMP:20260424T022121
CREATED:20251027T150501Z
LAST-MODIFIED:20251027T150501Z
UID:15561-1781447400-1781458200@quazar.fr
SUMMARY:Après-midi jeux de société
DESCRIPTION:Jeux de cartes\, de pions\, de plateaux… Venez avec votre jeu préféré et faites-le découvrir.
URL:https://quazar.fr/evenement/apres-midi-jeux-de-societe-22
LOCATION:Quazar Centre LGBTI+\, 15 rue de Jérusalem\, Angers\, 49100\, France
CATEGORIES:Après-midi jeux,Culture et loisirs,Jeux de société
END:VEVENT
BEGIN:VEVENT
DTSTART;TZID=Europe/Helsinki:20260617T193000
DTEND;TZID=Europe/Helsinki:20260617T220000
DTSTAMP:20260424T022121
CREATED:20260106T160950Z
LAST-MODIFIED:20260106T160950Z
UID:16059-1781724600-1781733600@quazar.fr
SUMMARY:Apéro jeunes - Pôle 15-25 ans
DESCRIPTION:
URL:https://quazar.fr/evenement/apero-jeunes-pole-15-25-ans-6
CATEGORIES:Culture et loisirs,Jeunes
ORGANIZER;CN="P%C3%B4le jeunes":MAILTO:15-25ans@quazar.fr
END:VEVENT
BEGIN:VEVENT
DTSTART;TZID=Europe/Helsinki:20260712T143000
DTEND;TZID=Europe/Helsinki:20260712T173000
DTSTAMP:20260424T022121
CREATED:20251027T150501Z
LAST-MODIFIED:20251027T150501Z
UID:15562-1783866600-1783877400@quazar.fr
SUMMARY:Après-midi jeux de société
DESCRIPTION:Jeux de cartes\, de pions\, de plateaux… Venez avec votre jeu préféré et faites-le découvrir.
URL:https://quazar.fr/evenement/apres-midi-jeux-de-societe-23
LOCATION:Quazar Centre LGBTI+\, 15 rue de Jérusalem\, Angers\, 49100\, France
CATEGORIES:Après-midi jeux,Culture et loisirs,Jeux de société
END:VEVENT
BEGIN:VEVENT
DTSTART;TZID=Europe/Helsinki:20260809T143000
DTEND;TZID=Europe/Helsinki:20260809T173000
DTSTAMP:20260424T022121
CREATED:20251027T150502Z
LAST-MODIFIED:20251027T150502Z
UID:15563-1786285800-1786296600@quazar.fr
SUMMARY:Après-midi jeux de société
DESCRIPTION:Jeux de cartes\, de pions\, de plateaux… Venez avec votre jeu préféré et faites-le découvrir.
URL:https://quazar.fr/evenement/apres-midi-jeux-de-societe-24
LOCATION:Quazar Centre LGBTI+\, 15 rue de Jérusalem\, Angers\, 49100\, France
CATEGORIES:Après-midi jeux,Culture et loisirs,Jeux de société
END:VEVENT
BEGIN:VEVENT
DTSTART;TZID=Europe/Helsinki:20260819T193000
DTEND;TZID=Europe/Helsinki:20260819T220000
DTSTAMP:20260424T022121
CREATED:20260106T161004Z
LAST-MODIFIED:20260106T161004Z
UID:16061-1787167800-1787176800@quazar.fr
SUMMARY:Apéro jeunes - Pôle 15-25 ans
DESCRIPTION:
URL:https://quazar.fr/evenement/apero-jeunes-pole-15-25-ans-8
CATEGORIES:Culture et loisirs,Jeunes
ORGANIZER;CN="P%C3%B4le jeunes":MAILTO:15-25ans@quazar.fr
END:VEVENT
BEGIN:VEVENT
DTSTART;TZID=Europe/Helsinki:20260904T200000
DTEND;TZID=Europe/Helsinki:20260904T230000
DTSTAMP:20260424T022121
CREATED:20251027T145210Z
LAST-MODIFIED:20251027T145210Z
UID:15545-1788552000-1788562800@quazar.fr
SUMMARY:Soirée jeux de société
DESCRIPTION:Que vous soyez expérimenté·es ou que vous souhaitiez découvrir l’univers du jeu\, il y en aura pour tous les goûts. Du petit jeu rapide au jeu plus posé\, on vous propose de venir vous installer à une table et de vous lancer dans une partie. Apportez votre jeu préféré pour le faire découvrir ou profiter de la sélection apportée par Matthieu\, notre animateur.
URL:https://quazar.fr/evenement/soiree-jeux-de-societe-24
LOCATION:Quazar Centre LGBTI+\, 15 rue de Jérusalem\, Angers\, 49100\, France
CATEGORIES:Culture et loisirs,Jeux de société,Soirée jeux
ORGANIZER;CN="Quazar":MAILTO:*protected email*
END:VEVENT
BEGIN:VEVENT
DTSTART;TZID=Europe/Helsinki:20260913T143000
DTEND;TZID=Europe/Helsinki:20260913T173000
DTSTAMP:20260424T022121
CREATED:20251027T150701Z
LAST-MODIFIED:20251027T150701Z
UID:15564-1789309800-1789320600@quazar.fr
SUMMARY:Après-midi jeux de société
DESCRIPTION:Jeux de cartes\, de pions\, de plateaux… Venez avec votre jeu préféré et faites-le découvrir.
URL:https://quazar.fr/evenement/apres-midi-jeux-de-societe-25
LOCATION:Quazar Centre LGBTI+\, 15 rue de Jérusalem\, Angers\, 49100\, France
CATEGORIES:Après-midi jeux,Culture et loisirs,Jeux de société
END:VEVENT
BEGIN:VEVENT
DTSTART;TZID=Europe/Helsinki:20260916T193000
DTEND;TZID=Europe/Helsinki:20260916T220000
DTSTAMP:20260424T022121
CREATED:20260106T161005Z
LAST-MODIFIED:20260106T161005Z
UID:16062-1789587000-1789596000@quazar.fr
SUMMARY:Apéro jeunes - Pôle 15-25 ans
DESCRIPTION:
URL:https://quazar.fr/evenement/apero-jeunes-pole-15-25-ans-9
CATEGORIES:Culture et loisirs,Jeunes
ORGANIZER;CN="P%C3%B4le jeunes":MAILTO:15-25ans@quazar.fr
END:VEVENT
BEGIN:VEVENT
DTSTART;TZID=Europe/Helsinki:20261002T200000
DTEND;TZID=Europe/Helsinki:20261002T230000
DTSTAMP:20260424T022121
CREATED:20251027T145211Z
LAST-MODIFIED:20251027T145211Z
UID:15546-1790971200-1790982000@quazar.fr
SUMMARY:Soirée jeux de société
DESCRIPTION:Que vous soyez expérimenté·es ou que vous souhaitiez découvrir l’univers du jeu\, il y en aura pour tous les goûts. Du petit jeu rapide au jeu plus posé\, on vous propose de venir vous installer à une table et de vous lancer dans une partie. Apportez votre jeu préféré pour le faire découvrir ou profiter de la sélection apportée par Matthieu\, notre animateur.
URL:https://quazar.fr/evenement/soiree-jeux-de-societe-25
LOCATION:Quazar Centre LGBTI+\, 15 rue de Jérusalem\, Angers\, 49100\, France
CATEGORIES:Culture et loisirs,Jeux de société,Soirée jeux
ORGANIZER;CN="Quazar":MAILTO:*protected email*
END:VEVENT
BEGIN:VEVENT
DTSTART;TZID=Europe/Helsinki:20261011T143000
DTEND;TZID=Europe/Helsinki:20261011T173000
DTSTAMP:20260424T022121
CREATED:20251027T150701Z
LAST-MODIFIED:20251027T150701Z
UID:15565-1791729000-1791739800@quazar.fr
SUMMARY:Après-midi jeux de société
DESCRIPTION:Jeux de cartes\, de pions\, de plateaux… Venez avec votre jeu préféré et faites-le découvrir.
URL:https://quazar.fr/evenement/apres-midi-jeux-de-societe-26
LOCATION:Quazar Centre LGBTI+\, 15 rue de Jérusalem\, Angers\, 49100\, France
CATEGORIES:Après-midi jeux,Culture et loisirs,Jeux de société
END:VEVENT
BEGIN:VEVENT
DTSTART;TZID=Europe/Helsinki:20261021T193000
DTEND;TZID=Europe/Helsinki:20261021T220000
DTSTAMP:20260424T022121
CREATED:20260106T161006Z
LAST-MODIFIED:20260106T161006Z
UID:16063-1792611000-1792620000@quazar.fr
SUMMARY:Apéro jeunes - Pôle 15-25 ans
DESCRIPTION:
URL:https://quazar.fr/evenement/apero-jeunes-pole-15-25-ans-10
CATEGORIES:Culture et loisirs,Jeunes
ORGANIZER;CN="P%C3%B4le jeunes":MAILTO:15-25ans@quazar.fr
END:VEVENT
BEGIN:VEVENT
DTSTART;TZID=Europe/Helsinki:20261106T200000
DTEND;TZID=Europe/Helsinki:20261106T230000
DTSTAMP:20260424T022121
CREATED:20251027T145327Z
LAST-MODIFIED:20251027T145327Z
UID:15547-1793995200-1794006000@quazar.fr
SUMMARY:Soirée jeux de société
DESCRIPTION:Que vous soyez expérimenté·es ou que vous souhaitiez découvrir l’univers du jeu\, il y en aura pour tous les goûts. Du petit jeu rapide au jeu plus posé\, on vous propose de venir vous installer à une table et de vous lancer dans une partie. Apportez votre jeu préféré pour le faire découvrir ou profiter de la sélection apportée par Matthieu\, notre animateur.
URL:https://quazar.fr/evenement/soiree-jeux-de-societe-26
LOCATION:Quazar Centre LGBTI+\, 15 rue de Jérusalem\, Angers\, 49100\, France
CATEGORIES:Culture et loisirs,Jeux de société,Soirée jeux
ORGANIZER;CN="Quazar":MAILTO:*protected email*
END:VEVENT
BEGIN:VEVENT
DTSTART;TZID=Europe/Helsinki:20261118T193000
DTEND;TZID=Europe/Helsinki:20261118T220000
DTSTAMP:20260424T022121
CREATED:20260106T161010Z
LAST-MODIFIED:20260106T161010Z
UID:16064-1795030200-1795039200@quazar.fr
SUMMARY:Apéro jeunes - Pôle 15-25 ans
DESCRIPTION:
URL:https://quazar.fr/evenement/apero-jeunes-pole-15-25-ans-11
CATEGORIES:Culture et loisirs,Jeunes
ORGANIZER;CN="P%C3%B4le jeunes":MAILTO:15-25ans@quazar.fr
END:VEVENT
BEGIN:VEVENT
DTSTART;TZID=Europe/Helsinki:20261204T200000
DTEND;TZID=Europe/Helsinki:20261204T230000
DTSTAMP:20260424T022121
CREATED:20251027T145328Z
LAST-MODIFIED:20251027T145328Z
UID:15548-1796414400-1796425200@quazar.fr
SUMMARY:Soirée jeux de société
DESCRIPTION:Que vous soyez expérimenté·es ou que vous souhaitiez découvrir l’univers du jeu\, il y en aura pour tous les goûts. Du petit jeu rapide au jeu plus posé\, on vous propose de venir vous installer à une table et de vous lancer dans une partie. Apportez votre jeu préféré pour le faire découvrir ou profiter de la sélection apportée par Matthieu\, notre animateur.
URL:https://quazar.fr/evenement/soiree-jeux-de-societe-27
LOCATION:Quazar Centre LGBTI+\, 15 rue de Jérusalem\, Angers\, 49100\, France
CATEGORIES:Culture et loisirs,Jeux de société,Soirée jeux
ORGANIZER;CN="Quazar":MAILTO:*protected email*
END:VEVENT
BEGIN:VEVENT
DTSTART;TZID=Europe/Helsinki:20261216T193000
DTEND;TZID=Europe/Helsinki:20261216T220000
DTSTAMP:20260424T022121
CREATED:20260106T161010Z
LAST-MODIFIED:20260106T161010Z
UID:16065-1797449400-1797458400@quazar.fr
SUMMARY:Apéro jeunes - Pôle 15-25 ans
DESCRIPTION:
URL:https://quazar.fr/evenement/apero-jeunes-pole-15-25-ans-12
CATEGORIES:Culture et loisirs,Jeunes
ORGANIZER;CN="P%C3%B4le jeunes":MAILTO:15-25ans@quazar.fr
END:VEVENT
END:VCALENDAR