BEGIN:VCALENDAR
VERSION:2.0
PRODID:-//Quazar, Centre LGBTI+ d&#039;Angers et du Maine-et-Loire - ECPv6.15.20//NONSGML v1.0//EN
CALSCALE:GREGORIAN
METHOD:PUBLISH
X-WR-CALNAME:Quazar, Centre LGBTI+ d&#039;Angers et du Maine-et-Loire
X-ORIGINAL-URL:https://quazar.fr
X-WR-CALDESC:Évènements pour Quazar, Centre LGBTI+ d&#039;Angers et du Maine-et-Loire
REFRESH-INTERVAL;VALUE=DURATION:PT1H
X-Robots-Tag:noindex
X-PUBLISHED-TTL:PT1H
BEGIN:VTIMEZONE
TZID:Europe/Helsinki
BEGIN:DAYLIGHT
TZOFFSETFROM:+0200
TZOFFSETTO:+0300
TZNAME:EEST
DTSTART:20240331T010000
END:DAYLIGHT
BEGIN:STANDARD
TZOFFSETFROM:+0300
TZOFFSETTO:+0200
TZNAME:EET
DTSTART:20241027T010000
END:STANDARD
BEGIN:DAYLIGHT
TZOFFSETFROM:+0200
TZOFFSETTO:+0300
TZNAME:EEST
DTSTART:20250330T010000
END:DAYLIGHT
BEGIN:STANDARD
TZOFFSETFROM:+0300
TZOFFSETTO:+0200
TZNAME:EET
DTSTART:20251026T010000
END:STANDARD
BEGIN:DAYLIGHT
TZOFFSETFROM:+0200
TZOFFSETTO:+0300
TZNAME:EEST
DTSTART:20260329T010000
END:DAYLIGHT
BEGIN:STANDARD
TZOFFSETFROM:+0300
TZOFFSETTO:+0200
TZNAME:EET
DTSTART:20261025T010000
END:STANDARD
END:VTIMEZONE
BEGIN:VEVENT
DTSTART;TZID=Europe/Helsinki:20250505T190000
DTEND;TZID=Europe/Helsinki:20250505T203000
DTSTAMP:20260425T175254
CREATED:20250502T140621Z
LAST-MODIFIED:20250502T140621Z
UID:13971-1746471600-1746477000@quazar.fr
SUMMARY:Réunion publique - Pride 2025
DESCRIPTION:On vous atteint nombreuxses à la prochaine réunion publique de la PRIDE Angers 2025 ! \n\nSi vous voulez avoir les dernières info sur l’organisation du Village et de la Marche des fiertés LGBTI+ ou que vous envisagez d’y être bénévole\, n’hésitez pas à nous rejoindre.\n\n\n \n\n\n📆 Lundi 5 Mai\n\n\n🕑 19H\n\n\n📍 Bourse du Travail\, 14 Place Louis Imbach\n\n\n\n\n\n* © Pride – GayPride – Lesbian & Gaypride / marques déposées. Tous droits réservés CONNECTION.
URL:https://quazar.fr/evenement/reunion-publique-pride-2025
LOCATION:Bourse du Travail\, 14 place Louis Imbach\, Angers\, 49100\, France
CATEGORIES:Pride,Réunion
END:VEVENT
BEGIN:VEVENT
DTSTART;VALUE=DATE:20250517
DTEND;VALUE=DATE:20250518
DTSTAMP:20260425T175254
CREATED:20250409T162322Z
LAST-MODIFIED:20250502T135029Z
UID:13763-1747458000-1747526399@quazar.fr
SUMMARY:PRIDE 2025
DESCRIPTION:Pride Angers 2025\nFace aux réacs et à l’extrême droite\,\nnous sommes luttes et résistances !\nPour sa 25e édition\, la Pride d’Angers vous offre du 4 en 1 ! \n\nVillage des Fiertés\,\nMarche des Fiertés LGBTI+\, dans les rues d’Angers\,\nPride Night\, la soirée officielle au Chabada\,\nFestiPRIDE\, festival militant\, informatif et festif LGBTI+.\n\n11h – Ouverture du Village des Fiertés\nStands des associations et partenaires\, avec animation et présentation de chaque association et partenaires.\nPride Café\, pour tous les goûts\, avec repas sur place\, y compris végan.\nIndispensable scène musicale et animations. \n14h – Marche des Fiertés LGBTI+\nDans les rues d’Angers\,  avec un parcours pour tenir compte des personnes handis. Une zone de confort est prévue pour les personnes qui souhaitent faire la Marche dans la tranquillité.\nPrise de parole place du Ralliement avec traduction en LSF. \nPRÉVENTION Toute la journée\, AIDES vous donne rendez-vous sur son stand de prévention et de réduction des risques\, pour échanger sur la santé sexuelle et plus particulièrement du VIH\, des hépatites\, des IST. A disposition\, documentation et matériels de réduction des risques liées à la santé sexuelle ainsi qu’à la consommation de produits psychoactifs.\nDépistage rapide (TROD) du VIH et des hépatites B et C\, gratuit\, confidentiel et rapide. \n16h30 – Retour de la Marche au Village\nScène DJ’s sets sur le podium.\nToujours le Pride Café à votre disposition. \nPRÉVENTION Les Noxambules vous attend sur son stand de l’équipe mobile de prévention et de réduction des conduites à risques en soirée et sur la voie publique. \n18h – Before officiel de la Pride\nau bar Le 2.4.9\, 90 rue Lionnaise 49100 à Angers. \n23h – Pride Night\nSoirée officielle au Chabada\, 56 bd du Doyenné à Angers.\nGRANDE SALLE – DJ Niko · CLUB – DJ’s. \n \n 
URL:https://quazar.fr/evenement/marche-des-fiertes-%c2%b7-pride-angers-2025
LOCATION:Place François Mitterrand\, 14 Bd Robert\, 49100 Angers\, Angers\, 49100\, France
CATEGORIES:Pride
ATTACH;FMTTYPE=image/jpeg:https://quazar.fr/wp-content/uploads/2025/04/unnamed-2.jpg
END:VEVENT
BEGIN:VEVENT
DTSTART;TZID=Europe/Helsinki:20250518T120000
DTEND;TZID=Europe/Helsinki:20250518T140000
DTSTAMP:20260425T175254
CREATED:20250410T143317Z
LAST-MODIFIED:20250428T153750Z
UID:13791-1747569600-1747576800@quazar.fr
SUMMARY:Pique-nique post Pride 2025
DESCRIPTION:  \nRendez vous à 12H devant le Jardin des Plantes pour le pique-nique d’après Pride annuel. \nUne question\, une envie de s’engager pour l’année prochaine ou de militer le long de l’année ? C’est le moment de venir nous rencontrer pour un moment de convivialité entre festivaliers !
URL:https://quazar.fr/evenement/pique-nique-post-pride-2025
LOCATION:Jardin des Plantes\, Place Pierre Mendès France\, Angers\, 49100\, France
CATEGORIES:Pique-nique,Pride
END:VEVENT
END:VCALENDAR