BEGIN:VCALENDAR
VERSION:2.0
PRODID:-//Quazar, Centre LGBTI+ d&#039;Angers et du Maine-et-Loire - ECPv6.15.20//NONSGML v1.0//EN
CALSCALE:GREGORIAN
METHOD:PUBLISH
X-WR-CALNAME:Quazar, Centre LGBTI+ d&#039;Angers et du Maine-et-Loire
X-ORIGINAL-URL:https://quazar.fr
X-WR-CALDESC:Évènements pour Quazar, Centre LGBTI+ d&#039;Angers et du Maine-et-Loire
REFRESH-INTERVAL;VALUE=DURATION:PT1H
X-Robots-Tag:noindex
X-PUBLISHED-TTL:PT1H
BEGIN:VTIMEZONE
TZID:Europe/Helsinki
BEGIN:DAYLIGHT
TZOFFSETFROM:+0200
TZOFFSETTO:+0300
TZNAME:EEST
DTSTART:20240331T010000
END:DAYLIGHT
BEGIN:STANDARD
TZOFFSETFROM:+0300
TZOFFSETTO:+0200
TZNAME:EET
DTSTART:20241027T010000
END:STANDARD
BEGIN:DAYLIGHT
TZOFFSETFROM:+0200
TZOFFSETTO:+0300
TZNAME:EEST
DTSTART:20250330T010000
END:DAYLIGHT
BEGIN:STANDARD
TZOFFSETFROM:+0300
TZOFFSETTO:+0200
TZNAME:EET
DTSTART:20251026T010000
END:STANDARD
BEGIN:DAYLIGHT
TZOFFSETFROM:+0200
TZOFFSETTO:+0300
TZNAME:EEST
DTSTART:20260329T010000
END:DAYLIGHT
BEGIN:STANDARD
TZOFFSETFROM:+0300
TZOFFSETTO:+0200
TZNAME:EET
DTSTART:20261025T010000
END:STANDARD
END:VTIMEZONE
BEGIN:VEVENT
DTSTART;TZID=Europe/Helsinki:20251104T190000
DTEND;TZID=Europe/Helsinki:20251104T210000
DTSTAMP:20260426T045738
CREATED:20251024T155251Z
LAST-MODIFIED:20251024T155251Z
UID:15491-1762282800-1762290000@quazar.fr
SUMMARY:TRANSparents
DESCRIPTION:Groupe d’échanges à destination des proches souhaitant poser toutes questions en rapport avec la transidentité sans la présence des personnes concernées.
URL:https://quazar.fr/evenement/transparents-16
LOCATION:Quazar Centre LGBTI+\, 15 rue de Jérusalem\, Angers\, 49100\, France
CATEGORIES:Team Trans Inter
END:VEVENT
BEGIN:VEVENT
DTSTART;TZID=Europe/Helsinki:20251107T200000
DTEND;TZID=Europe/Helsinki:20251107T230000
DTSTAMP:20260426T045738
CREATED:20251027T144719Z
LAST-MODIFIED:20251027T144719Z
UID:15532-1762545600-1762556400@quazar.fr
SUMMARY:Soirée jeux de société
DESCRIPTION:Que vous soyez expérimenté·es ou que vous souhaitiez découvrir l’univers du jeu\, il y en aura pour tous les goûts. Du petit jeu rapide au jeu plus posé\, on vous propose de venir vous installer à une table et de vous lancer dans une partie. Apportez votre jeu préféré pour le faire découvrir ou profiter de la sélection apportée par Matthieu\, notre animateur.
URL:https://quazar.fr/evenement/soiree-jeux-de-societe-14
LOCATION:Quazar Centre LGBTI+\, 15 rue de Jérusalem\, Angers\, 49100\, France
CATEGORIES:Culture et loisirs,Jeux de société,Soirée jeux
ORGANIZER;CN="Quazar":MAILTO:*protected email*
END:VEVENT
BEGIN:VEVENT
DTSTART;TZID=Europe/Helsinki:20251109T143000
DTEND;TZID=Europe/Helsinki:20251109T173000
DTSTAMP:20260426T045738
CREATED:20251027T150228Z
LAST-MODIFIED:20251027T150228Z
UID:15551-1762698600-1762709400@quazar.fr
SUMMARY:Après-midi jeux de société
DESCRIPTION:Jeux de cartes\, de pions\, de plateaux… Venez avec votre jeu préféré et faites-le découvrir.
URL:https://quazar.fr/evenement/apres-midi-jeux-de-societe-15
LOCATION:Quazar Centre LGBTI+\, 15 rue de Jérusalem\, Angers\, 49100\, France
CATEGORIES:Après-midi jeux,Culture et loisirs,Jeux de société
END:VEVENT
BEGIN:VEVENT
DTSTART;TZID=Europe/Helsinki:20251115T150000
DTEND;TZID=Europe/Helsinki:20251115T170000
DTSTAMP:20260426T045738
CREATED:20250409T133206Z
LAST-MODIFIED:20251104T143945Z
UID:13673-1763218800-1763226000@quazar.fr
SUMMARY:TRANS@
DESCRIPTION:Groupe d’échanges pour et par les personnes transgenres\, agenres\, non-binaires\, intersexes ou en questionnement. La participation est gratuite et sur inscription par mail.
URL:https://quazar.fr/evenement/trans-16
LOCATION:Quazar Centre LGBTI+\, 15 rue de Jérusalem\, Angers\, 49100\, France
CATEGORIES:Team Trans Inter,Trans@
END:VEVENT
BEGIN:VEVENT
DTSTART;TZID=Europe/Helsinki:20251122T170000
DTEND;TZID=Europe/Helsinki:20251122T190000
DTSTAMP:20260426T045738
CREATED:20251028T165457Z
LAST-MODIFIED:20251028T170242Z
UID:15581-1763830800-1763838000@quazar.fr
SUMMARY:Rencontre l’équipe de QUAZAR
DESCRIPTION:L’association QUAZAR a le plaisir de vous inviter à une rencontre le samedi 22 novembre\, de 17h00 à 19h00\, au local de l’association : 15 Rue de Jérusalem à Angers.\nCette rencontre est l’occasion de :\n– présenter les différents pôles de l’association et leurs missions\,\n– échanger avec les référent·es sur les actions en cours et à venir\,\n– découvrir les façons de s’impliquer selon vos envies et vos disponibilités\,\net bien sûr de partager un moment convivial autour d’un pot de l’amitié à la fin de la rencontre. \nVous avez envie de :\n\nparticiper à l’organisation d’événements\,\nvous impliquer dans les actions militantes\, de prévention\, ou de sensibilisation ?\n\nC’est le moment idéal pour en parler et trouver votre place au sein de l’équipe !
URL:https://quazar.fr/evenement/rencontre-lequipe-de-quazar
LOCATION:Quazar Centre LGBTI+\, 15 rue de Jérusalem\, Angers\, 49100\, France
CATEGORIES:Bénévolat,Portes ouvertes,Réunion
ORGANIZER;CN="Quazar":MAILTO:*protected email*
END:VEVENT
END:VCALENDAR