BEGIN:VCALENDAR
VERSION:2.0
PRODID:-//Quazar, Centre LGBTI+ d&#039;Angers et du Maine-et-Loire - ECPv6.15.20//NONSGML v1.0//EN
CALSCALE:GREGORIAN
METHOD:PUBLISH
X-WR-CALNAME:Quazar, Centre LGBTI+ d&#039;Angers et du Maine-et-Loire
X-ORIGINAL-URL:https://quazar.fr
X-WR-CALDESC:Évènements pour Quazar, Centre LGBTI+ d&#039;Angers et du Maine-et-Loire
REFRESH-INTERVAL;VALUE=DURATION:PT1H
X-Robots-Tag:noindex
X-PUBLISHED-TTL:PT1H
BEGIN:VTIMEZONE
TZID:Europe/Helsinki
BEGIN:DAYLIGHT
TZOFFSETFROM:+0200
TZOFFSETTO:+0300
TZNAME:EEST
DTSTART:20250330T010000
END:DAYLIGHT
BEGIN:STANDARD
TZOFFSETFROM:+0300
TZOFFSETTO:+0200
TZNAME:EET
DTSTART:20251026T010000
END:STANDARD
BEGIN:DAYLIGHT
TZOFFSETFROM:+0200
TZOFFSETTO:+0300
TZNAME:EEST
DTSTART:20260329T010000
END:DAYLIGHT
BEGIN:STANDARD
TZOFFSETFROM:+0300
TZOFFSETTO:+0200
TZNAME:EET
DTSTART:20261025T010000
END:STANDARD
BEGIN:DAYLIGHT
TZOFFSETFROM:+0200
TZOFFSETTO:+0300
TZNAME:EEST
DTSTART:20270328T010000
END:DAYLIGHT
BEGIN:STANDARD
TZOFFSETFROM:+0300
TZOFFSETTO:+0200
TZNAME:EET
DTSTART:20271031T010000
END:STANDARD
END:VTIMEZONE
BEGIN:VEVENT
DTSTART;TZID=Europe/Helsinki:20260505T190000
DTEND;TZID=Europe/Helsinki:20260505T210000
DTSTAMP:20260423T231100
CREATED:20251024T155313Z
LAST-MODIFIED:20260421T131100Z
UID:15500-1778007600-1778014800@quazar.fr
SUMMARY:TRANSparents
DESCRIPTION:La Team Trans Inter de Quazar propose TRANSparents\, le groupe d’échanges pour les proches de personnes transgenres\, agenres ou non-binaires\, intersexes.\nSœur\, frère\, oncle\, tante\, cousin\, cousine\, tou·te·s les membres de la famille\, proches ou conjoint·es sont invité·es à participer à ce groupe de parole. \n \nUn temps ouvert à tou·te·s les membres de la famille qui recherchent un espace bienveillant pour découvrir la transidentité vécue par les mineur·es ou majeur·es de leur entourage\, exprimer leurs sentiments\, partager leur vécu et leurs expériences\, poser des questions\, avec d’autres parents et proches\, en rencontrant des personnes transgenres ou non-binaires de la Team Trans Inter \nAu cours de cette rencontre\, vous pourrez vous exprimer\, vous épauler les un·es les autres. 
URL:https://quazar.fr/evenement/transparents-22
LOCATION:Quazar Centre LGBTI+\, 15 rue de Jérusalem\, Angers\, 49100\, France
CATEGORIES:Team Trans Inter,TRANSparents
ATTACH;FMTTYPE=image/png:https://quazar.fr/wp-content/uploads/2026/01/Design-sans-titre.png
END:VEVENT
BEGIN:VEVENT
DTSTART;TZID=Europe/Helsinki:20260604T190000
DTEND;TZID=Europe/Helsinki:20260604T210000
DTSTAMP:20260423T231100
CREATED:20251024T155419Z
LAST-MODIFIED:20251024T155419Z
UID:15512-1780599600-1780606800@quazar.fr
SUMMARY:TRANSparents
DESCRIPTION:Groupe d’échanges à destination des proches souhaitant poser toutes questions en rapport avec la transidentité sans la présence des personnes concernées.
URL:https://quazar.fr/evenement/transparents-23
LOCATION:Quazar Centre LGBTI+\, 15 rue de Jérusalem\, Angers\, 49100\, France
CATEGORIES:Team Trans Inter
END:VEVENT
BEGIN:VEVENT
DTSTART;TZID=Europe/Helsinki:20260707T190000
DTEND;TZID=Europe/Helsinki:20260707T210000
DTSTAMP:20260423T231100
CREATED:20251024T155420Z
LAST-MODIFIED:20251024T155420Z
UID:15513-1783450800-1783458000@quazar.fr
SUMMARY:TRANSparents
DESCRIPTION:Groupe d’échanges à destination des proches souhaitant poser toutes questions en rapport avec la transidentité sans la présence des personnes concernées.
URL:https://quazar.fr/evenement/transparents-24
LOCATION:Quazar Centre LGBTI+\, 15 rue de Jérusalem\, Angers\, 49100\, France
CATEGORIES:Team Trans Inter
END:VEVENT
BEGIN:VEVENT
DTSTART;TZID=Europe/Helsinki:20260806T190000
DTEND;TZID=Europe/Helsinki:20260806T210000
DTSTAMP:20260423T231100
CREATED:20251024T155420Z
LAST-MODIFIED:20251024T155420Z
UID:15514-1786042800-1786050000@quazar.fr
SUMMARY:TRANSparents
DESCRIPTION:Groupe d’échanges à destination des proches souhaitant poser toutes questions en rapport avec la transidentité sans la présence des personnes concernées.
URL:https://quazar.fr/evenement/transparents-25
LOCATION:Quazar Centre LGBTI+\, 15 rue de Jérusalem\, Angers\, 49100\, France
CATEGORIES:Team Trans Inter
END:VEVENT
END:VCALENDAR